BEGIN:VCALENDAR
VERSION:2.0
PRODID:-//Sabre//Sabre VObject 4.5.8//EN
CALSCALE:GREGORIAN
BEGIN:VEVENT
UID:sabre-vobject-61272c79-07f6-434a-8a1b-f02340d89a45
DTSTAMP:20260421T104425Z
SUMMARY:Nachtwächterführung
DESCRIPTION:https://neuburg-donau.info/veranstaltungen/nachtwaechterfuehrun
 g_id49865
DTSTART;TZID=Europe/Berlin:20261002T203000
DTEND;TZID=Europe/Berlin:20261002T220000
LOCATION:Tourist-Information\, Ottheinrichplatz A 118\, 86633 Neuburg
END:VEVENT
END:VCALENDAR
