BEGIN:VCALENDAR
VERSION:2.0
PRODID:-//Sabre//Sabre VObject 4.5.8//EN
CALSCALE:GREGORIAN
BEGIN:VEVENT
UID:sabre-vobject-1980f9cc-7ab0-4da4-8940-71a58672d841
DTSTAMP:20260420T103940Z
SUMMARY: Provinzialbibliotheksführung
DESCRIPTION:https://neuburg-donau.info/veranstaltungen/provinzialbibliothek
 sfuehrung_id49872
DTSTART;TZID=Europe/Berlin:20260429T143000
DTEND;TZID=Europe/Berlin:20260429T151500
LOCATION:Provinzialbibliothek\, Karlsplatz 17\, 86633 Neuburg an der Donau
END:VEVENT
END:VCALENDAR
