BEGIN:VCALENDAR
VERSION:2.0
PRODID:-//Sabre//Sabre VObject 4.5.8//EN
CALSCALE:GREGORIAN
BEGIN:VEVENT
UID:sabre-vobject-c40505e6-114a-40fe-bedb-5f1ab6ac57c6
DTSTAMP:20260420T091425Z
SUMMARY: Provinzialbibliotheksführung
DESCRIPTION:https://neuburg-donau.info/veranstaltungen/provinzialbibliothek
 sfuehrung_id49878
DTSTART;TZID=Europe/Berlin:20260610T143000
DTEND;TZID=Europe/Berlin:20260610T151500
LOCATION:Provinzialbibliothek\, Karlsplatz 17\, 86633 Neuburg an der Donau
END:VEVENT
END:VCALENDAR
