BEGIN:VCALENDAR
VERSION:2.0
PRODID:-//Sabre//Sabre VObject 4.5.8//EN
CALSCALE:GREGORIAN
BEGIN:VEVENT
UID:sabre-vobject-619d5521-9ab2-418a-8159-3da1f33b20f9
DTSTAMP:20260421T102323Z
SUMMARY: Provinzialbibliotheksführung
DESCRIPTION:https://neuburg-donau.info/veranstaltungen/provinzialbibliothek
 sfuehrung_id49882
DTSTART;TZID=Europe/Berlin:20260708T143000
DTEND;TZID=Europe/Berlin:20260708T151500
LOCATION:Provinzialbibliothek\, Karlsplatz 17\, 86633 Neuburg an der Donau
END:VEVENT
END:VCALENDAR
