BEGIN:VCALENDAR
VERSION:2.0
PRODID:-//Sabre//Sabre VObject 4.5.8//EN
CALSCALE:GREGORIAN
BEGIN:VEVENT
UID:sabre-vobject-cea29e41-18a0-439e-b482-585f0100a2ab
DTSTAMP:20260423T125316Z
SUMMARY: Provinzialbibliotheksführung
DESCRIPTION:https://neuburg-donau.info/veranstaltungen/provinzialbibliothek
 sfuehrung_id49883
DTSTART;TZID=Europe/Berlin:20260715T143000
DTEND;TZID=Europe/Berlin:20260715T151500
LOCATION:Provinzialbibliothek\, Karlsplatz 17\, 86633 Neuburg an der Donau
END:VEVENT
END:VCALENDAR
