BEGIN:VCALENDAR
VERSION:2.0
PRODID:-//Sabre//Sabre VObject 4.5.8//EN
CALSCALE:GREGORIAN
BEGIN:VEVENT
UID:sabre-vobject-f9115761-745d-46aa-9f68-9f265ebea6d1
DTSTAMP:20260422T103251Z
SUMMARY: Provinzialbibliotheksführung
DESCRIPTION:https://neuburg-donau.info/veranstaltungen/provinzialbibliothek
 sfuehrung_id49894
DTSTART;TZID=Europe/Berlin:20260930T143000
DTEND;TZID=Europe/Berlin:20260930T151500
LOCATION:Provinzialbibliothek\, Karlsplatz 17\, 86633 Neuburg an der Donau
END:VEVENT
END:VCALENDAR
