BEGIN:VCALENDAR
VERSION:2.0
PRODID:-//Sabre//Sabre VObject 4.5.8//EN
CALSCALE:GREGORIAN
BEGIN:VEVENT
UID:sabre-vobject-049fe7ea-73f1-4d2f-a4c0-8705506f1611
DTSTAMP:20260420T072027Z
SUMMARY:Öffentliche Stadtführung
DESCRIPTION:https://neuburg-donau.info/veranstaltungen/oeffentliche-stadtfu
 ehrung_id49932
DTSTART;TZID=Europe/Berlin:20260428T143000
DTEND;TZID=Europe/Berlin:20260428T160000
LOCATION:Tourist-Information\, Ottheinrichplatz A 118\, 86633 Neuburg
END:VEVENT
END:VCALENDAR
