BEGIN:VCALENDAR
VERSION:2.0
PRODID:-//Sabre//Sabre VObject 4.5.8//EN
CALSCALE:GREGORIAN
BEGIN:VEVENT
UID:sabre-vobject-24e19f34-1bd1-41bd-9eb1-8204ba02fc08
DTSTAMP:20260423T090143Z
SUMMARY:Öffentliche Stadtführung
DESCRIPTION:https://neuburg-donau.info/veranstaltungen/oeffentliche-stadtfu
 ehrung_id50004
DTSTART;TZID=Europe/Berlin:20260726T143000
DTEND;TZID=Europe/Berlin:20260726T160000
LOCATION:Tourist-Information\, Ottheinrichplatz A 118\, 86633 Neuburg
END:VEVENT
END:VCALENDAR
