BEGIN:VCALENDAR
VERSION:2.0
PRODID:-//Sabre//Sabre VObject 4.5.8//EN
CALSCALE:GREGORIAN
BEGIN:VEVENT
UID:sabre-vobject-687d0e14-53c0-41a4-95ef-a1ed6e2faa63
DTSTAMP:20260423T110000Z
SUMMARY:Öffentliche Stadtführung
DESCRIPTION:https://neuburg-donau.info/veranstaltungen/oeffentliche-stadtfu
 ehrung_id50026
DTSTART;TZID=Europe/Berlin:20260530T160000
DTEND;TZID=Europe/Berlin:20260530T173000
LOCATION:Tourist-Information\, Ottheinrichplatz A 118\, 86633 Neuburg
END:VEVENT
END:VCALENDAR
