BEGIN:VCALENDAR
VERSION:2.0
PRODID:-//Sabre//Sabre VObject 4.5.8//EN
CALSCALE:GREGORIAN
BEGIN:VEVENT
UID:sabre-vobject-8fa50481-30c5-4eb9-b58b-148e113a1fb3
DTSTAMP:20260421T114841Z
SUMMARY:Öffentliche Stadtführung
DESCRIPTION:https://neuburg-donau.info/veranstaltungen/oeffentliche-stadtfu
 ehrung_id50027
DTSTART;TZID=Europe/Berlin:20260606T160000
DTEND;TZID=Europe/Berlin:20260606T173000
LOCATION:Tourist-Information\, Ottheinrichplatz A 118\, 86633 Neuburg
END:VEVENT
END:VCALENDAR
