BEGIN:VCALENDAR
VERSION:2.0
PRODID:-//Sabre//Sabre VObject 4.5.8//EN
CALSCALE:GREGORIAN
BEGIN:VEVENT
UID:sabre-vobject-dfa897dd-e4a5-4471-8663-786007e7cfcd
DTSTAMP:20260423T090306Z
SUMMARY:Öffentliche Stadtführung
DESCRIPTION:https://neuburg-donau.info/veranstaltungen/oeffentliche-stadtfu
 ehrung_id50036
DTSTART;TZID=Europe/Berlin:20260808T160000
DTEND;TZID=Europe/Berlin:20260808T173000
LOCATION:Tourist-Information\, Ottheinrichplatz A 118\, 86633 Neuburg
END:VEVENT
END:VCALENDAR
