BEGIN:VCALENDAR
VERSION:2.0
PRODID:-//Sabre//Sabre VObject 4.5.8//EN
CALSCALE:GREGORIAN
BEGIN:VEVENT
UID:sabre-vobject-51f6e134-4921-4528-ab22-2e974a76a620
DTSTAMP:20260421T102404Z
SUMMARY:Schlosstour am Sonntag
DESCRIPTION:https://neuburg-donau.info/veranstaltungen/schlosstour-am-sonnt
 ag_id50052
DTSTART;TZID=Europe/Berlin:20260705T113000
DTEND;TZID=Europe/Berlin:20260705T130000
LOCATION:Residenzschloss Neuburg\, Residenzstraße 2\, 86633 Neuburg an der
  Donau
END:VEVENT
END:VCALENDAR
