BEGIN:VCALENDAR
VERSION:2.0
PRODID:-//Sabre//Sabre VObject 4.5.8//EN
CALSCALE:GREGORIAN
BEGIN:VEVENT
UID:sabre-vobject-3a99b138-58e0-4ac3-a108-b0a17aab4fc0
DTSTAMP:20260421T102400Z
SUMMARY:Schlosstour am Sonntag
DESCRIPTION:https://neuburg-donau.info/veranstaltungen/schlosstour-am-sonnt
 ag_id50054
DTSTART;TZID=Europe/Berlin:20260906T113000
DTEND;TZID=Europe/Berlin:20260906T130000
LOCATION:Residenzschloss Neuburg\, Residenzstraße 2\, 86633 Neuburg an der
  Donau
END:VEVENT
END:VCALENDAR
