BEGIN:VCALENDAR
VERSION:2.0
PRODID:-//Sabre//Sabre VObject 4.5.8//EN
CALSCALE:GREGORIAN
BEGIN:VEVENT
UID:sabre-vobject-3fa0fd9b-aeb3-44ad-bf17-3d2a32c96ba0
DTSTAMP:20260421T114810Z
SUMMARY:Schlosstour am Sonntag
DESCRIPTION:https://neuburg-donau.info/veranstaltungen/schlosstour-am-sonnt
 ag_id50058
DTSTART;TZID=Europe/Berlin:20260621T113000
DTEND;TZID=Europe/Berlin:20260621T130000
LOCATION:Residenzschloss Neuburg\, Residenzstraße 2\, 86633 Neuburg an der
  Donau
END:VEVENT
END:VCALENDAR
