BEGIN:VCALENDAR
VERSION:2.0
PRODID:-//Sabre//Sabre VObject 4.5.8//EN
CALSCALE:GREGORIAN
BEGIN:VEVENT
UID:sabre-vobject-01624c71-e76d-432d-8055-4372cd7b8d29
DTSTAMP:20260421T102409Z
SUMMARY:Schlosstour am Sonntag
DESCRIPTION:https://neuburg-donau.info/veranstaltungen/schlosstour-am-sonnt
 ag_id50059
DTSTART;TZID=Europe/Berlin:20260719T113000
DTEND;TZID=Europe/Berlin:20260719T130000
LOCATION:Residenzschloss Neuburg\, Residenzstraße 2\, 86633 Neuburg an der
  Donau
END:VEVENT
END:VCALENDAR
