BEGIN:VCALENDAR
VERSION:2.0
PRODID:-//Sabre//Sabre VObject 4.5.8//EN
CALSCALE:GREGORIAN
BEGIN:VEVENT
UID:sabre-vobject-29b87d4f-301b-4eef-abb9-5caf20581279
DTSTAMP:20260421T102420Z
SUMMARY:Schlosstour am Sonntag
DESCRIPTION:https://neuburg-donau.info/veranstaltungen/schlosstour-am-sonnt
 ag_id50061
DTSTART;TZID=Europe/Berlin:20260920T113000
DTEND;TZID=Europe/Berlin:20260920T130000
LOCATION:Residenzschloss Neuburg\, Residenzstraße 2\, 86633 Neuburg an der
  Donau
END:VEVENT
END:VCALENDAR
