BEGIN:VCALENDAR
VERSION:2.0
PRODID:-//Sabre//Sabre VObject 4.5.8//EN
CALSCALE:GREGORIAN
BEGIN:VEVENT
UID:sabre-vobject-889dd690-4050-43b8-8d0e-39b36e1767c1
DTSTAMP:20260421T150802Z
SUMMARY:Più Präsentiert: Night of Song
DESCRIPTION:https://neuburg-donau.info/veranstaltungen/piu-praesentiert-nig
 ht-of-song_id50296
DTSTART;TZID=Europe/Berlin:20260314T200000
DTEND;TZID=Europe/Berlin:20260314T220000
LOCATION:Kongregationssaal\, Jacob-Balde-Platz\, 86633 Neuburg an der Donau
END:VEVENT
END:VCALENDAR
