BEGIN:VCALENDAR
VERSION:2.0
PRODID:-//Sabre//Sabre VObject 4.5.8//EN
CALSCALE:GREGORIAN
BEGIN:VEVENT
UID:sabre-vobject-73f8a1d9-2c6e-4934-9764-3abf8b7aa720
DTSTAMP:20260421T102502Z
SUMMARY:NEU! Sapperlot\, was seh' ich da?
DESCRIPTION:https://neuburg-donau.info/veranstaltungen/neu-sapperlot-was-se
 h-ich-da_id50308
DTSTART;TZID=Europe/Berlin:20260607T190000
DTEND;TZID=Europe/Berlin:20260607T203000
LOCATION:Tourist-Information\, Ottheinrichplatz A 118\, 86633 Neuburg
END:VEVENT
END:VCALENDAR
