BEGIN:VCALENDAR
VERSION:2.0
PRODID:-//Sabre//Sabre VObject 4.5.8//EN
CALSCALE:GREGORIAN
BEGIN:VEVENT
UID:sabre-vobject-2a2c7594-6f04-4515-a1c4-8136b3155dc3
DTSTAMP:20260421T114857Z
SUMMARY:NEU! Sapperlot\, was seh' ich da?
DESCRIPTION:https://neuburg-donau.info/veranstaltungen/neu-sapperlot-was-se
 h-ich-da_id50309
DTSTART;TZID=Europe/Berlin:20260828T190000
DTEND;TZID=Europe/Berlin:20260828T203000
LOCATION:Tourist-Information\, Ottheinrichplatz A 118\, 86633 Neuburg
END:VEVENT
END:VCALENDAR
