BEGIN:VCALENDAR
VERSION:2.0
PRODID:-//Sabre//Sabre VObject 4.5.8//EN
CALSCALE:GREGORIAN
BEGIN:VEVENT
UID:sabre-vobject-42023166-5610-4e0e-8825-1a7629d6f7c0
DTSTAMP:20260421T114943Z
SUMMARY:NEU! Sapperlot\, was seh' ich da?
DESCRIPTION:https://neuburg-donau.info/veranstaltungen/neu-sapperlot-was-se
 h-ich-da_id50310
DTSTART;TZID=Europe/Berlin:20260925T190000
DTEND;TZID=Europe/Berlin:20260925T203000
LOCATION:Tourist-Information\, Ottheinrichplatz A 118\, 86633 Neuburg
END:VEVENT
END:VCALENDAR
