BEGIN:VCALENDAR
VERSION:2.0
PRODID:-//Sabre//Sabre VObject 4.5.8//EN
CALSCALE:GREGORIAN
BEGIN:VEVENT
UID:sabre-vobject-0e744259-aa97-40f4-81ea-b0ab5fc59bc3
DTSTAMP:20260422T084625Z
SUMMARY:Rundwanderung über Möckenlohe\, Nassenfels\, Gleßbrunnen
DESCRIPTION:https://www.neuburg-donau.de/rathaus/ausschuesse-und-beiraete/s
 eniorenbeirat/veranstaltungen/rundwanderung-ueber-moeckenlohe-nassenfels-g
 lessbrunnen_id50320
DTSTART;TZID=Europe/Berlin:20260428T124500
DURATION:PT30M
END:VEVENT
END:VCALENDAR
