BEGIN:VCALENDAR
VERSION:2.0
PRODID:-//Sabre//Sabre VObject 4.5.8//EN
CALSCALE:GREGORIAN
BEGIN:VEVENT
UID:sabre-vobject-d26459df-3028-432d-9da7-3a26a708c54b
DTSTAMP:20260421T171733Z
SUMMARY:Più Präsentiert: Trio Hornung\, Hanninger\, Rosso
DESCRIPTION:https://neuburg-donau.info/veranstaltungen/piu-praesentiert-tri
 o-hornung-hanninger-rosso_id50463
DTSTART;TZID=Europe/Berlin:20260301T190000
DTEND;TZID=Europe/Berlin:20260301T203000
LOCATION:Più Piano\, Spitalstraße C 172\, 86633 Neuburg an der Donau
END:VEVENT
END:VCALENDAR
