BEGIN:VCALENDAR
VERSION:2.0
PRODID:-//Sabre//Sabre VObject 4.5.8//EN
CALSCALE:GREGORIAN
BEGIN:VEVENT
UID:sabre-vobject-c0d9dd3f-cf2c-45b9-a4c9-faaa8291a723
DTSTAMP:20260420T085720Z
SUMMARY:Radierausstellung
DESCRIPTION:https://neuburg-donau.info/veranstaltungen/radierausstellung_id
 50884
DTSTART;TZID=Europe/Berlin:20260402T090000
DTEND;TZID=Europe/Berlin:20260402T160000
LOCATION:Marstallfoyer\, Ottheinrichplatz A 117\, 86633 Neuburg an der Dona
 u
END:VEVENT
END:VCALENDAR
