BEGIN:VCALENDAR
VERSION:2.0
PRODID:-//Sabre//Sabre VObject 4.5.8//EN
CALSCALE:GREGORIAN
BEGIN:VEVENT
UID:sabre-vobject-95f2da47-ab95-47f7-b4ff-1d0d866b07f9
DTSTAMP:20260420T104245Z
SUMMARY:Licht wird alles\, was ich fasse 
DESCRIPTION:https://neuburg-donau.info/veranstaltungen/licht-wird-alles-was
 -ich-fasse_id50941
DTSTART;TZID=Europe/Berlin:20260402T170000
DTEND;TZID=Europe/Berlin:20260402T190000
LOCATION:Städtische Galerie im Rathausfletz\, Karlsplatz A 12\, 86633 Neub
 urg an der Donau
END:VEVENT
END:VCALENDAR
