BEGIN:VCALENDAR
VERSION:2.0
PRODID:-//Sabre//Sabre VObject 4.5.8//EN
CALSCALE:GREGORIAN
BEGIN:VEVENT
UID:sabre-vobject-fa5bf358-b283-425c-8452-feed83ea67c7
DTSTAMP:20260424T130643Z
SUMMARY:Licht wird alles\, was ich fasse 
DESCRIPTION:https://neuburg-donau.info/veranstaltungen/licht-wird-alles-was
 -ich-fasse_id50947
DTSTART;TZID=Europe/Berlin:20260307T110000
DTEND;TZID=Europe/Berlin:20260307T190000
LOCATION:Städtische Galerie im Rathausfletz\, Karlsplatz A 12\, 86633 Neub
 urg an der Donau
END:VEVENT
END:VCALENDAR
