BEGIN:VCALENDAR
VERSION:2.0
PRODID:-//Sabre//Sabre VObject 4.5.8//EN
CALSCALE:GREGORIAN
BEGIN:VEVENT
UID:sabre-vobject-6d4bce83-5714-4072-8573-a34e1927d15f
DTSTAMP:20260420T135706Z
SUMMARY:Licht wird alles\, was ich fasse 
DESCRIPTION:https://neuburg-donau.info/veranstaltungen/licht-wird-alles-was
 -ich-fasse_id50950
DTSTART;TZID=Europe/Berlin:20260328T110000
DTEND;TZID=Europe/Berlin:20260328T190000
LOCATION:Städtische Galerie im Rathausfletz\, Karlsplatz A 12\, 86633 Neub
 urg an der Donau
END:VEVENT
END:VCALENDAR
