BEGIN:VCALENDAR
VERSION:2.0
PRODID:-//Sabre//Sabre VObject 4.5.8//EN
CALSCALE:GREGORIAN
BEGIN:VEVENT
UID:sabre-vobject-3f72ff29-44f0-4f72-a5da-aca767514e01
DTSTAMP:20260424T085315Z
SUMMARY:Licht wird alles\, was ich fasse 
DESCRIPTION:https://neuburg-donau.info/veranstaltungen/licht-wird-alles-was
 -ich-fasse_id50951
DTSTART;TZID=Europe/Berlin:20260404T110000
DTEND;TZID=Europe/Berlin:20260404T190000
LOCATION:Städtische Galerie im Rathausfletz\, Karlsplatz A 12\, 86633 Neub
 urg an der Donau
END:VEVENT
END:VCALENDAR
