BEGIN:VCALENDAR
VERSION:2.0
PRODID:-//Sabre//Sabre VObject 4.5.8//EN
CALSCALE:GREGORIAN
BEGIN:VEVENT
UID:sabre-vobject-e482a31d-3a18-4ee1-b1c9-011847967e0a
DTSTAMP:20260422T084419Z
SUMMARY:Licht wird alles\, was ich fasse 
DESCRIPTION:https://neuburg-donau.info/veranstaltungen/licht-wird-alles-was
 -ich-fasse_id50957
DTSTART;TZID=Europe/Berlin:20260406T110000
DTEND;TZID=Europe/Berlin:20260406T190000
LOCATION:Städtische Galerie im Rathausfletz\, Karlsplatz A 12\, 86633 Neub
 urg an der Donau
END:VEVENT
END:VCALENDAR
