BEGIN:VCALENDAR
VERSION:2.0
PRODID:-//Sabre//Sabre VObject 4.5.8//EN
CALSCALE:GREGORIAN
BEGIN:VEVENT
UID:sabre-vobject-ee016a6f-95b3-452d-b9c5-8984e3b4f9a3
DTSTAMP:20260420T085730Z
SUMMARY:Radierausstellung
DESCRIPTION:https://neuburg-donau.info/veranstaltungen/radierausstellung_id
 50989
DTSTART;TZID=Europe/Berlin:20260418T110000
DTEND;TZID=Europe/Berlin:20260418T190000
LOCATION:Marstallfoyer\, Ottheinrichplatz A 117\, 86633 Neuburg an der Dona
 u
END:VEVENT
END:VCALENDAR
