BEGIN:VCALENDAR
VERSION:2.0
PRODID:-//Sabre//Sabre VObject 4.5.8//EN
CALSCALE:GREGORIAN
BEGIN:VEVENT
UID:sabre-vobject-188d624e-7f07-41fb-84ab-83b9c6930b42
DTSTAMP:20260423T151436Z
SUMMARY:Grenzen setzen – liebevoll und klar
DESCRIPTION:https://neuburg-donau.info/veranstaltungen/grenzen-setzen-liebe
 voll-und-klar_id51159
DTSTART;TZID=Europe/Berlin:20260423T190000
DTEND;TZID=Europe/Berlin:20260423T203000
LOCATION:Bürgerhaus Schwalbanger\, Richard-Wagner-Straße 6\, 86633 Neubur
 g an der Donau
END:VEVENT
END:VCALENDAR
