BEGIN:VCALENDAR
VERSION:2.0
PRODID:-//Sabre//Sabre VObject 4.5.8//EN
CALSCALE:GREGORIAN
BEGIN:VEVENT
UID:sabre-vobject-3ed6dbb8-1895-4d29-943f-30d99003bc88
DTSTAMP:20260423T105924Z
SUMMARY:Eltern-Kind Frühlingsbasteln
DESCRIPTION:https://neuburg-donau.info/veranstaltungen/eltern-kind-fruehlin
 gsbasteln_id51164
DTSTART;TZID=Europe/Berlin:20260425T090000
DTEND;TZID=Europe/Berlin:20260425T113000
LOCATION:Bürgerhaus Schwalbanger\, Richard-Wagner-Straße 6\, 86633 Neubur
 g an der Donau
END:VEVENT
END:VCALENDAR
