BEGIN:VCALENDAR
VERSION:2.0
PRODID:-//Sabre//Sabre VObject 4.5.8//EN
CALSCALE:GREGORIAN
BEGIN:VEVENT
UID:sabre-vobject-a256d800-81e4-4690-ab68-1f872fcff0ca
DTSTAMP:20260422T103100Z
SUMMARY:Mein beruflicher Wiedereinstieg in/nach der Elternzeit
DESCRIPTION:https://neuburg-donau.info/veranstaltungen/mein-beruflicher-wie
 dereinstieg-in-nach-der-elternzeit_id51166
DTSTART;TZID=Europe/Berlin:20260506T090000
DTEND;TZID=Europe/Berlin:20260506T103000
LOCATION:Bürgerhaus Schwalbanger\, Richard-Wagner-Straße 6\, 86633 Neubur
 g an der Donau
END:VEVENT
END:VCALENDAR
