BEGIN:VCALENDAR
VERSION:2.0
PRODID:-//Sabre//Sabre VObject 4.5.8//EN
CALSCALE:GREGORIAN
BEGIN:VEVENT
UID:sabre-vobject-49aa7527-a2d4-4f98-954f-8deb4cbf56bf
DTSTAMP:20260420T203931Z
SUMMARY:Acker Alm Dinner Event - Hopfen Heimat Sau
DESCRIPTION:https://neuburg-donau.info/veranstaltungen/acker-alm-dinner-eve
 nt-hopfen-heimat-sau_id51192
DTSTART;TZID=Europe/Berlin:20260424T173000
DURATION:PT30M
LOCATION:Die Acker Alm\, Am Maschinenring 2\, 86633 Neuburg an der Donau
END:VEVENT
END:VCALENDAR
