BEGIN:VCALENDAR
VERSION:2.0
PRODID:-//Sabre//Sabre VObject 4.5.8//EN
CALSCALE:GREGORIAN
BEGIN:VEVENT
UID:sabre-vobject-9d54dda4-1610-4c3f-a52b-ea29c94ed342
DTSTAMP:20260424T132226Z
SUMMARY:Das Urwald-Musical
DESCRIPTION:https://neuburg-donau.info/veranstaltungen/das-urwald-musical_i
 d51293
DTSTART;TZID=Europe/Berlin:20260314T170000
DURATION:PT30M
LOCATION:Stadttheater\, Residenzstraße A67\, 86633 Neuburg an der Donau
END:VEVENT
END:VCALENDAR
