BEGIN:VCALENDAR
VERSION:2.0
PRODID:-//Sabre//Sabre VObject 4.5.8//EN
CALSCALE:GREGORIAN
BEGIN:VEVENT
UID:sabre-vobject-7d0b1b80-f661-49f2-bb15-4491a3b26871
DTSTAMP:20260420T091130Z
SUMMARY:Fake News: Desinformation erkennen
DESCRIPTION:https://neuburg-donau.info/veranstaltungen/fake-news-desinforma
 tion-erkennen_id51313
DTSTART;TZID=Europe/Berlin:20260625T080000
DTEND;TZID=Europe/Berlin:20260625T200000
LOCATION:Volkshochschule Neuburg e.V. (VHS)\, Franziskanerstraße B 200\, 8
 6633 Neuburg an der Donau
END:VEVENT
END:VCALENDAR
