BEGIN:VCALENDAR
VERSION:2.0
PRODID:-//Sabre//Sabre VObject 4.5.8//EN
CALSCALE:GREGORIAN
BEGIN:VEVENT
UID:sabre-vobject-c5927c6b-69b6-4d32-abc9-4a94dcddd6c7
DTSTAMP:20260420T085552Z
SUMMARY:Fake News: Desinformation erkennen
DESCRIPTION:https://neuburg-donau.info/veranstaltungen/fake-news-desinforma
 tion-erkennen_id51316
DTSTART;TZID=Europe/Berlin:20260716T080000
DTEND;TZID=Europe/Berlin:20260716T200000
LOCATION:Volkshochschule Neuburg e.V. (VHS)\, Franziskanerstraße B 200\, 8
 6633 Neuburg an der Donau
END:VEVENT
END:VCALENDAR
