BEGIN:VCALENDAR
VERSION:2.0
PRODID:-//Sabre//Sabre VObject 4.5.8//EN
CALSCALE:GREGORIAN
BEGIN:VEVENT
UID:sabre-vobject-977a76b5-e7c7-4d79-a7c6-f88ea3083368
DTSTAMP:20260422T084604Z
SUMMARY:Fake News: Desinformation erkennen
DESCRIPTION:https://neuburg-donau.info/veranstaltungen/fake-news-desinforma
 tion-erkennen_id51324
DTSTART;TZID=Europe/Berlin:20260501T080000
DTEND;TZID=Europe/Berlin:20260501T200000
LOCATION:Volkshochschule Neuburg e.V. (VHS)\, Franziskanerstraße B 200\, 8
 6633 Neuburg an der Donau
END:VEVENT
END:VCALENDAR
