BEGIN:VCALENDAR
VERSION:2.0
PRODID:-//Sabre//Sabre VObject 4.5.8//EN
CALSCALE:GREGORIAN
BEGIN:VEVENT
UID:sabre-vobject-8a6f127b-57fd-4aef-a173-7c0148d2bf4d
DTSTAMP:20260420T085704Z
SUMMARY:Fake News: Desinformation erkennen
DESCRIPTION:https://neuburg-donau.info/veranstaltungen/fake-news-desinforma
 tion-erkennen_id51358
DTSTART;TZID=Europe/Berlin:20260414T080000
DTEND;TZID=Europe/Berlin:20260414T200000
LOCATION:Volkshochschule Neuburg e.V. (VHS)\, Franziskanerstraße B 200\, 8
 6633 Neuburg an der Donau
END:VEVENT
END:VCALENDAR
