BEGIN:VCALENDAR
VERSION:2.0
PRODID:-//Sabre//Sabre VObject 4.5.8//EN
CALSCALE:GREGORIAN
BEGIN:VEVENT
UID:sabre-vobject-3df4d39e-7c93-41fa-9203-a416194fab1d
DTSTAMP:20260420T083807Z
SUMMARY:Fake News: Desinformation erkennen
DESCRIPTION:https://neuburg-donau.info/veranstaltungen/fake-news-desinforma
 tion-erkennen_id51391
DTSTART;TZID=Europe/Berlin:20260729T080000
DTEND;TZID=Europe/Berlin:20260729T200000
LOCATION:Volkshochschule Neuburg e.V. (VHS)\, Franziskanerstraße B 200\, 8
 6633 Neuburg an der Donau
END:VEVENT
END:VCALENDAR
