BEGIN:VCALENDAR
VERSION:2.0
PRODID:-//Sabre//Sabre VObject 4.5.8//EN
CALSCALE:GREGORIAN
BEGIN:VEVENT
UID:sabre-vobject-cf4197bc-10ae-4381-b48f-ddb6211d7747
DTSTAMP:20260420T085413Z
SUMMARY:Sammeln - Forschen - Bewahren
DESCRIPTION:https://neuburg-donau.info/veranstaltungen/sammeln-forschen-bew
 ahren_id51433
DTSTART;TZID=Europe/Berlin:20260502T100000
DTEND;TZID=Europe/Berlin:20260502T180000
LOCATION:Stadtmuseum Neuburg an der Donau\, Amalienstraße  19\, 86633 Neub
 urg an der Donau
END:VEVENT
END:VCALENDAR
