BEGIN:VCALENDAR
VERSION:2.0
PRODID:-//Sabre//Sabre VObject 4.5.8//EN
CALSCALE:GREGORIAN
BEGIN:VEVENT
UID:sabre-vobject-aed4e955-f551-4c32-8418-ed1f4fded068
DTSTAMP:20260420T085526Z
SUMMARY:Sammeln - Forschen - Bewahren
DESCRIPTION:https://neuburg-donau.info/veranstaltungen/sammeln-forschen-bew
 ahren_id51446
DTSTART;TZID=Europe/Berlin:20260801T100000
DTEND;TZID=Europe/Berlin:20260801T180000
LOCATION:Stadtmuseum Neuburg an der Donau\, Amalienstraße  19\, 86633 Neub
 urg an der Donau
END:VEVENT
END:VCALENDAR
