BEGIN:VCALENDAR
VERSION:2.0
PRODID:-//Sabre//Sabre VObject 4.5.8//EN
CALSCALE:GREGORIAN
BEGIN:VEVENT
UID:sabre-vobject-d0873fe4-c76a-452e-be5d-91962a225cb0
DTSTAMP:20260420T104235Z
SUMMARY:Sammeln - Forschen - Bewahren
DESCRIPTION:https://neuburg-donau.info/veranstaltungen/sammeln-forschen-bew
 ahren_id51462
DTSTART;TZID=Europe/Berlin:20260503T100000
DTEND;TZID=Europe/Berlin:20260503T180000
LOCATION:Stadtmuseum Neuburg an der Donau\, Amalienstraße  19\, 86633 Neub
 urg an der Donau
END:VEVENT
END:VCALENDAR
