BEGIN:VCALENDAR
VERSION:2.0
PRODID:-//Sabre//Sabre VObject 4.5.8//EN
CALSCALE:GREGORIAN
BEGIN:VEVENT
UID:sabre-vobject-47636e72-22c7-4b2f-8da2-3cf865bccb1d
DTSTAMP:20260420T105556Z
SUMMARY:Sammeln - Forschen - Bewahren
DESCRIPTION:https://neuburg-donau.info/veranstaltungen/sammeln-forschen-bew
 ahren_id51500
DTSTART;TZID=Europe/Berlin:20260706T100000
DTEND;TZID=Europe/Berlin:20260706T180000
LOCATION:Stadtmuseum Neuburg an der Donau\, Amalienstraße  19\, 86633 Neub
 urg an der Donau
END:VEVENT
END:VCALENDAR
