BEGIN:VCALENDAR
VERSION:2.0
PRODID:-//Sabre//Sabre VObject 4.5.8//EN
CALSCALE:GREGORIAN
BEGIN:VEVENT
UID:sabre-vobject-d4654310-5942-4523-9d01-fa1ee048f4a0
DTSTAMP:20260424T091722Z
SUMMARY:Sammeln - Forschen - Bewahren
DESCRIPTION:https://neuburg-donau.info/veranstaltungen/sammeln-forschen-bew
 ahren_id51545
DTSTART;TZID=Europe/Berlin:20260423T100000
DTEND;TZID=Europe/Berlin:20260423T180000
LOCATION:Stadtmuseum Neuburg an der Donau\, Amalienstraße  19\, 86633 Neub
 urg an der Donau
END:VEVENT
END:VCALENDAR
