BEGIN:VCALENDAR
VERSION:2.0
PRODID:-//Sabre//Sabre VObject 4.5.8//EN
CALSCALE:GREGORIAN
BEGIN:VEVENT
UID:sabre-vobject-104c73ad-62d5-4456-90ea-b3a3702e1022
DTSTAMP:20260421T100252Z
SUMMARY:Più Präsentiert: Ben Diamond
DESCRIPTION:https://neuburg-donau.info/veranstaltungen/piu-praesentiert-ben
 -diamond_id51609
DTSTART;TZID=Europe/Berlin:20260422T193000
DTEND;TZID=Europe/Berlin:20260422T210000
LOCATION:Più Piano\, Spitalstraße C 172\, 86633 Neuburg an der Donau
END:VEVENT
END:VCALENDAR
