BEGIN:VCALENDAR
VERSION:2.0
PRODID:-//Sabre//Sabre VObject 4.5.8//EN
CALSCALE:GREGORIAN
BEGIN:VEVENT
UID:sabre-vobject-d6ec5ff9-7a75-4455-a28b-f9ff879cf865
DTSTAMP:20260421T190402Z
SUMMARY:Familientag im Stadtmuseum
DESCRIPTION:https://neuburg-donau.info/veranstaltungen/familientag-im-stadt
 museum_id51623
DTSTART;TZID=Europe/Berlin:20260801T100000
DTEND;TZID=Europe/Berlin:20260801T170000
LOCATION:Stadtmuseum Neuburg an der Donau\, Amalienstraße  19\, 86633 Neub
 urg an der Donau
END:VEVENT
END:VCALENDAR
