BEGIN:VCALENDAR
VERSION:2.0
PRODID:-//Sabre//Sabre VObject 4.5.8//EN
CALSCALE:GREGORIAN
BEGIN:VEVENT
UID:sabre-vobject-c3ab505c-a1fe-4445-9732-7e1651dde8fc
DTSTAMP:20260420T085434Z
SUMMARY:Maurice Elie Sarthou - Bilder
DESCRIPTION:https://neuburg-donau.info/veranstaltungen/maurice-elie-sarthou
 -bilder_id51666
DTSTART;TZID=Europe/Berlin:20260628T110000
DTEND;TZID=Europe/Berlin:20260628T190000
LOCATION:Städtische Galerie im Rathausfletz\, Karlsplatz A 12\, 86633 Neub
 urg an der Donau
END:VEVENT
END:VCALENDAR
