BEGIN:VCALENDAR
VERSION:2.0
PRODID:-//Sabre//Sabre VObject 4.5.8//EN
CALSCALE:GREGORIAN
BEGIN:VEVENT
UID:sabre-vobject-dfe84eb5-fe10-40e5-a3df-89c5470f2a5c
DTSTAMP:20260420T084936Z
SUMMARY:Maurice Elie Sarthou - Bilder
DESCRIPTION:https://neuburg-donau.info/veranstaltungen/maurice-elie-sarthou
 -bilder_id51672
DTSTART;TZID=Europe/Berlin:20260709T170000
DTEND;TZID=Europe/Berlin:20260709T190000
LOCATION:Städtische Galerie im Rathausfletz\, Karlsplatz A 12\, 86633 Neub
 urg an der Donau
END:VEVENT
END:VCALENDAR
