BEGIN:VCALENDAR
VERSION:2.0
PRODID:-//Sabre//Sabre VObject 4.5.8//EN
CALSCALE:GREGORIAN
BEGIN:VEVENT
UID:sabre-vobject-06dd7b26-4940-43e5-b70b-3e6d2b0c5ee6
DTSTAMP:20260424T084858Z
SUMMARY:Maurice Elie Sarthou - Bilder
DESCRIPTION:https://neuburg-donau.info/veranstaltungen/maurice-elie-sarthou
 -bilder_id51673
DTSTART;TZID=Europe/Berlin:20260716T170000
DTEND;TZID=Europe/Berlin:20260716T190000
LOCATION:Städtische Galerie im Rathausfletz\, Karlsplatz A 12\, 86633 Neub
 urg an der Donau
END:VEVENT
END:VCALENDAR
