BEGIN:VCALENDAR
VERSION:2.0
PRODID:-//Sabre//Sabre VObject 4.5.8//EN
CALSCALE:GREGORIAN
BEGIN:VEVENT
UID:sabre-vobject-10abdf73-89b8-4a61-8dbf-cfd1732bf0ef
DTSTAMP:20260420T091930Z
SUMMARY:Maurice Elie Sarthou - Bilder
DESCRIPTION:https://neuburg-donau.info/veranstaltungen/maurice-elie-sarthou
 -bilder_id51675
DTSTART;TZID=Europe/Berlin:20260703T170000
DTEND;TZID=Europe/Berlin:20260703T190000
LOCATION:Städtische Galerie im Rathausfletz\, Karlsplatz A 12\, 86633 Neub
 urg an der Donau
END:VEVENT
END:VCALENDAR
